BEGIN:VCALENDAR
VERSION:2.0
PRODID:-//Tukios.com/
BEGIN:VEVENT
UID:f6986753-dc42-4548-ae22-6e3819ff1a4b@www.lanmanfuneralhome.com
DTSTAMP:20260419T214509Z
DTSTART:20260422T160000Z
DTEND:20260422T170000Z
SUMMARY:Burial
DESCRIPTION:
URL:https://www.lanmanfuneralhome.com/obituaries/pamela-decker
LOCATION: 213 N Meno Ave  Meno OK 73760
GEO:36.3924267;-98.1757137
END:VEVENT
END:VCALENDAR