BEGIN:VCALENDAR
VERSION:2.0
PRODID:-//Tukios.com/
BEGIN:VEVENT
UID:70825c79-89ec-417a-a378-28ef37a0bf0f@www.lanmanfuneralhome.com
DTSTAMP:20260419T214544Z
DTSTART:20260422T150000Z
DTEND:20260422T160000Z
SUMMARY:Funeral Service
DESCRIPTION:
URL:https://www.lanmanfuneralhome.com/obituaries/pamela-decker
LOCATION: 201 S Meno Avenue  Meno OK 73760
GEO:36.3895246;-98.1765671
END:VEVENT
END:VCALENDAR