BEGIN:VCALENDAR
VERSION:2.0
PRODID:-//Tukios.com/
BEGIN:VEVENT
UID:8d4eb26a-319c-4582-8d4e-649596ccde68@www.lanmanfuneralhome.com
DTSTAMP:20260419T214857Z
DTSTART:20260421T220000Z
DTEND:20260422T000000Z
SUMMARY:Visitation
DESCRIPTION:
URL:https://www.lanmanfuneralhome.com/obituaries/pamela-decker
LOCATION: 309 4th St  Helena OK 73741
GEO:36.5474377;-98.2665343
END:VEVENT
END:VCALENDAR